BEGIN:VCALENDAR
VERSION:2.0
PRODID:-//Plone.org//NONSGML plone.app.event//EN
X-WR-TIMEZONE:Europe/Madrid
BEGIN:VEVENT
SUMMARY:Enojornades 2020
DTSTART;TZID=Europe/Madrid;VALUE=DATE-TIME:20200221T083000
DTEND;TZID=Europe/Madrid;VALUE=DATE-TIME:20200221T093000
DTSTAMP;VALUE=DATE-TIME:20260422T072833Z
UID:a9d098c1d9228face24c5e87902c660a
CREATED;VALUE=DATE-TIME:20200220T000000Z
CATEGORIES:Conferència,Vins i caves,Formació
LOCATION:CIC Fassina Centre d'Interpretació del Cava - Cr. Hospital 23 (entrada al Centre i a l'Oficina de Turisme)
ORGANIZER:Institut del Cava. Col·labora: Ajuntament de Sant Sadurní d'Anoia
URL:https://www.santsadurni.cat/document.php?id=14329
END:VEVENT
END:VCALENDAR