BEGIN:VCALENDAR
VERSION:2.0
PRODID:-//Plone.org//NONSGML plone.app.event//EN
X-WR-TIMEZONE:Europe/Madrid
BEGIN:VEVENT
SUMMARY:Els #DiumengesConfinats també són #DiumengesDeVermut
DTSTART;TZID=Europe/Madrid;VALUE=DATE-TIME:20200329T120000
DTEND;TZID=Europe/Madrid;VALUE=DATE-TIME:20200329T130000
DTSTAMP;VALUE=DATE-TIME:20260421T220143Z
UID:f96d2b25424a8d944561a9d047529b06
CREATED;VALUE=DATE-TIME:20200329T000000Z
CATEGORIES:Música,Familiar
LOCATION:#Joemquedoacasa
ORGANIZER:Servei de Cultura
URL:https://www.santsadurni.cat/document.php?id=14548
END:VEVENT
END:VCALENDAR