BEGIN:VCALENDAR
VERSION:2.0
PRODID:-//Plone.org//NONSGML plone.app.event//EN
X-WR-TIMEZONE:Europe/Madrid
BEGIN:VEVENT
SUMMARY:L'Istiu 20 -Festival Talent: Ramon Castellví-
DTSTART;TZID=Europe/Madrid;VALUE=DATE-TIME:20200715T223000
DTEND;TZID=Europe/Madrid;VALUE=DATE-TIME:20200715T233000
DTSTAMP;VALUE=DATE-TIME:20260421T224104Z
UID:fd274e50b201b1f0341d3148e8f35f4d
CREATED;VALUE=DATE-TIME:20200715T000000Z
CATEGORIES:Música
LOCATION:Parc Lluís Companys (zona pista)
ORGANIZER:Regidoria de Joventut
COMMENT:Preu: Entrada gratuïta
DESCRIPTION:El Festival Talent del Taller de Músics presenta el treball de final de titulació del sadurninenc Ramon Castellví. La bateria rock al primer pla de la composició. Un concert basat en temes propis on s'investiguen els recursos utilitzats pels bateries més únics i originals de l'escena rock a finals dels anys seixanta i principi dels setanta.
URL:https://www.santsadurni.cat/document.php?id=14829
END:VEVENT
END:VCALENDAR