BEGIN:VCALENDAR
VERSION:2.0
PRODID:-//Plone.org//NONSGML plone.app.event//EN
X-WR-TIMEZONE:Europe/Madrid
BEGIN:VEVENT
SUMMARY:AJORNAT. Espectacle de titelles "Operació Avi"
DTSTART;TZID=Europe/Madrid;VALUE=DATE-TIME:20210115T180000
DTEND;TZID=Europe/Madrid;VALUE=DATE-TIME:20210115T190000
DTSTAMP;VALUE=DATE-TIME:20260421T144755Z
UID:144e9683119711ec3f0308cfa86a2356
CREATED;VALUE=DATE-TIME:20210115T000000Z
CATEGORIES:Infantils,Familiar
LOCATION:Centre Vilarnau - Pl. Germans Segura Viudas s/n
ORGANIZER:Ajuntament de Sant Sadurní d'Anoia. Departament d'Acció Social. Centre Vilarnau
COMMENT:Durada: 55 minuts
DESCRIPTION:S'ajorna de nou per la situació sanitària i es reprogramarà quan sigui possible
URL:https://www.santsadurni.cat/document.php?id=15205
END:VEVENT
END:VCALENDAR