BEGIN:VCALENDAR
VERSION:2.0
PRODID:-//Plone.org//NONSGML plone.app.event//EN
X-WR-TIMEZONE:Europe/Madrid
BEGIN:VEVENT
SUMMARY:Inauguració de l'exposició de pintura d'Alberto León
DTSTART;TZID=Europe/Madrid;VALUE=DATE-TIME:20201127T190000
DTEND;TZID=Europe/Madrid;VALUE=DATE-TIME:20201127T200000
DTSTAMP;VALUE=DATE-TIME:20260422T075550Z
UID:bb37f96793911a9f221922ad57d5140e
CREATED;VALUE=DATE-TIME:20201127T000000Z
CATEGORIES:Exposició
LOCATION:Espai Tarruella, Crta. Sant Quintí, 7
ORGANIZER:Vitis Art
URL:https://www.santsadurni.cat/document.php?id=15421
END:VEVENT
END:VCALENDAR