BEGIN:VCALENDAR
VERSION:2.0
PRODID:-//Plone.org//NONSGML plone.app.event//EN
X-WR-TIMEZONE:Europe/Madrid
BEGIN:VEVENT
SUMMARY:Lliurament de premis del 22è  concurs literari infantil de Sant Jordi 2020
DTSTART;TZID=Europe/Madrid;VALUE=DATE-TIME:20201217T173000
DTEND;TZID=Europe/Madrid;VALUE=DATE-TIME:20201217T183000
DTSTAMP;VALUE=DATE-TIME:20260422T134056Z
UID:b400f94a8660276d964fd61cdb4e0e2e
CREATED;VALUE=DATE-TIME:20201217T000000Z
CATEGORIES:Literatura,Familiar
LOCATION:Biblioteca Ramon Bosch de Noya - Plaça 1er Homenatge a la Vellesa, 10
ORGANIZER:Biblioteca Municipal Ramon Bosch de Noya
COMMENT:Preu: Gratuït, sense inscripció prèvia
Durada: 60 minuts aproximadament
DESCRIPTION:Activitat familiar amb aforament limitat




URL:https://www.santsadurni.cat/document.php?id=15443
END:VEVENT
END:VCALENDAR