BEGIN:VCALENDAR
VERSION:2.0
PRODID:-//Plone.org//NONSGML plone.app.event//EN
X-WR-TIMEZONE:Europe/Madrid
BEGIN:VEVENT
SUMMARY:Sortida de Nadal
DTSTART;TZID=Europe/Madrid;VALUE=DATE-TIME:20201220T000000
DTEND;TZID=Europe/Madrid;VALUE=DATE-TIME:20201220T010000
DTSTAMP;VALUE=DATE-TIME:20260422T164837Z
UID:92d24bb208a197808f036e680b592536
CREATED;VALUE=DATE-TIME:20201219T000000Z
CATEGORIES:Esports
ORGANIZER:Sansa Sua tot
URL:https://www.santsadurni.cat/document.php?id=15464
END:VEVENT
END:VCALENDAR