BEGIN:VCALENDAR
VERSION:2.0
PRODID:-//Plone.org//NONSGML plone.app.event//EN
X-WR-TIMEZONE:Europe/Madrid
BEGIN:VEVENT
SUMMARY:Concert de Nadal per a gent gran
DTSTART;TZID=Europe/Madrid;VALUE=DATE-TIME:20201218T180000
DTEND;TZID=Europe/Madrid;VALUE=DATE-TIME:20201218T190000
DTSTAMP;VALUE=DATE-TIME:20260422T165533Z
UID:69d41eecfd2b21fd71a39092f2720d9f
CREATED;VALUE=DATE-TIME:20201218T000000Z
CATEGORIES:Música
LOCATION:CIC Fassina &ndash; Centre d'Interpretació del Cava - C. Hospital 23 (entrada al Centre i a l'Oficina de Turisme)
ORGANIZER:Benestar social i comissió gent gran
COMMENT:Preu: Gratuït però cal recollir invitació
URL:https://www.santsadurni.cat/document.php?id=15471
END:VEVENT
END:VCALENDAR