BEGIN:VCALENDAR
VERSION:2.0
PRODID:-//Plone.org//NONSGML plone.app.event//EN
X-WR-TIMEZONE:Europe/Madrid
BEGIN:VEVENT
SUMMARY:FESTIVAL DE POESIA A LES CAVES a les caves Codorniu
DTSTART;TZID=Europe/Madrid;VALUE=DATE-TIME:20210514T200000
DTEND;TZID=Europe/Madrid;VALUE=DATE-TIME:20210514T210000
DTSTAMP;VALUE=DATE-TIME:20260422T063006Z
UID:abb514ecbc980b726850307113f9ade4
CREATED;VALUE=DATE-TIME:20210514T000000Z
CATEGORIES:Literatura,Vins i caves
ORGANIZER:Regidoria de Cultura de l'Ajuntament de Sant Sadurní
URL:https://www.santsadurni.cat/document.php?id=15871
END:VEVENT
END:VCALENDAR