BEGIN:VCALENDAR
VERSION:2.0
PRODID:-//Plone.org//NONSGML plone.app.event//EN
X-WR-TIMEZONE:Europe/Madrid
BEGIN:VEVENT
SUMMARY:FESTIVAL DE POESIA A LES CAVES a les caves Recaredo
DTSTART;TZID=Europe/Madrid;VALUE=DATE-TIME:20210521T200000
DTEND;TZID=Europe/Madrid;VALUE=DATE-TIME:20210521T210000
DTSTAMP;VALUE=DATE-TIME:20260421T211747Z
UID:7a1d396f5e45f9067f9510314c0297ec
CREATED;VALUE=DATE-TIME:20210521T000000Z
CATEGORIES:Literatura,Vins i caves
ORGANIZER:Regidoria de Cultura de l'Ajuntament de Sant Sadurní
URL:https://www.santsadurni.cat/document.php?id=15873
END:VEVENT
END:VCALENDAR