BEGIN:VCALENDAR
VERSION:2.0
PRODID:-//Plone.org//NONSGML plone.app.event//EN
X-WR-TIMEZONE:Europe/Madrid
BEGIN:VEVENT
SUMMARY:Visita dels socis del Casal Municipal a l'Espai Xocolata.
DTSTART;TZID=Europe/Madrid;VALUE=DATE-TIME:20210527T105000
DTEND;TZID=Europe/Madrid;VALUE=DATE-TIME:20210527T115000
DTSTAMP;VALUE=DATE-TIME:20260424T212143Z
UID:cfb41e5fa0949037b716ca672f894564
CREATED;VALUE=DATE-TIME:20210527T000000Z
CATEGORIES:Gastronomia
LOCATION:Espai Xocolata
ORGANIZER:Casal Municipal i Simón Coll.
COMMENT:Preu: Gratuït.
Durada: Una hora aproximadament.
URL:https://www.santsadurni.cat/document.php?id=15886
END:VEVENT
END:VCALENDAR