BEGIN:VCALENDAR
VERSION:2.0
PRODID:-//Plone.org//NONSGML plone.app.event//EN
X-WR-TIMEZONE:Europe/Madrid
BEGIN:VEVENT
SUMMARY:Diada del Soci Foment Sardanista
DTSTART;TZID=Europe/Madrid;VALUE=DATE-TIME:20210523T120000
DTEND;TZID=Europe/Madrid;VALUE=DATE-TIME:20210523T130000
DTSTAMP;VALUE=DATE-TIME:20260424T145222Z
UID:22ef1eec26e4f8701523cede2b4fc300
CREATED;VALUE=DATE-TIME:20210523T000000Z
CATEGORIES:Dansa,Música
LOCATION:Església Parroquial
URL:https://www.santsadurni.cat/document.php?id=16058
END:VEVENT
END:VCALENDAR