BEGIN:VCALENDAR
VERSION:2.0
PRODID:-//Plone.org//NONSGML plone.app.event//EN
X-WR-TIMEZONE:Europe/Madrid
BEGIN:VEVENT
SUMMARY:Inauguració construcció efímera Pati de Can Guineu
DTSTART;TZID=Europe/Madrid;VALUE=DATE-TIME:20210524T193000
DTEND;TZID=Europe/Madrid;VALUE=DATE-TIME:20210524T203000
DTSTAMP;VALUE=DATE-TIME:20260424T184439Z
UID:d0969afe18b24fdc0a5859a34c188f68
CREATED;VALUE=DATE-TIME:20210524T000000Z
CATEGORIES:Conferència,Agenda de l'alcalde
LOCATION:Pati de Can Guineu - Plaça de l'Era d'en Guineu
URL:https://www.santsadurni.cat/document.php?id=16073
END:VEVENT
END:VCALENDAR