BEGIN:VCALENDAR
VERSION:2.0
PRODID:-//Plone.org//NONSGML plone.app.event//EN
X-WR-TIMEZONE:Europe/Madrid
BEGIN:VEVENT
SUMMARY:Ple municipal
DTSTART;TZID=Europe/Madrid;VALUE=DATE-TIME:20210525T193000
DTEND;TZID=Europe/Madrid;VALUE=DATE-TIME:20210525T203000
DTSTAMP;VALUE=DATE-TIME:20260424T160817Z
UID:7a9269a6ced8fce22f2d240cfe5ec366
CREATED;VALUE=DATE-TIME:20210525T000000Z
CATEGORIES:Conferència,Agenda de l'alcalde
LOCATION:Ajuntament de Sant Sadurní - Pl. Ajuntament 1
DESCRIPTION:En directe a Ràdio Sant Sadurní al 107.2 FM i per streaming a la senyal de ràdio online i a sessions.santsadurni.cat
URL:https://www.santsadurni.cat/document.php?id=16101
END:VEVENT
END:VCALENDAR