BEGIN:VCALENDAR
VERSION:2.0
PRODID:-//Plone.org//NONSGML plone.app.event//EN
X-WR-TIMEZONE:Europe/Madrid
BEGIN:VEVENT
SUMMARY:Ballada de Sardanes
DTSTART;TZID=Europe/Madrid;VALUE=DATE-TIME:20210908T190000
DTEND;TZID=Europe/Madrid;VALUE=DATE-TIME:20210908T200000
DTSTAMP;VALUE=DATE-TIME:20260420T014017Z
UID:879806d436b1151f1ce6b53c5238adaf
CREATED;VALUE=DATE-TIME:20210908T000000Z
CATEGORIES:Dansa,Música
LOCATION:Plaça Ajuntament
ORGANIZER:Foment Sardanista Sant Sadurní
URL:https://www.santsadurni.cat/document.php?id=16290
END:VEVENT
END:VCALENDAR