BEGIN:VCALENDAR
VERSION:2.0
PRODID:-//Plone.org//NONSGML plone.app.event//EN
X-WR-TIMEZONE:Europe/Madrid
BEGIN:VEVENT
SUMMARY:Ballada de Sardanes
DTSTART;TZID=Europe/Madrid;VALUE=DATE-TIME:20210909T190000
DTEND;TZID=Europe/Madrid;VALUE=DATE-TIME:20210909T200000
DTSTAMP;VALUE=DATE-TIME:20260420T013926Z
UID:0c2c49d4218dd34f3207bb36f5169b67
CREATED;VALUE=DATE-TIME:20210909T000000Z
CATEGORIES:Dansa,Música
LOCATION:Plaça Ajuntament
ORGANIZER:Foment Sardanista Sant Sadurní
URL:https://www.santsadurni.cat/document.php?id=16291
END:VEVENT
END:VCALENDAR