BEGIN:VCALENDAR
VERSION:2.0
PRODID:-//Plone.org//NONSGML plone.app.event//EN
X-WR-TIMEZONE:Europe/Madrid
BEGIN:VEVENT
SUMMARY:Fires i Festes 2021
DTSTART;TZID=Europe/Madrid;VALUE=DATE-TIME:20210910T000000
DTEND;TZID=Europe/Madrid;VALUE=DATE-TIME:20210910T010000
DTSTAMP;VALUE=DATE-TIME:20260419T222425Z
UID:04aed73ceb0dd3f4aee31df7817ec73f
CREATED;VALUE=DATE-TIME:20210910T000000Z
CATEGORIES:Festa
LOCATION:Escenari principal (Esplanada del CAP)
URL:https://www.santsadurni.cat/document.php?id=16335
END:VEVENT
END:VCALENDAR