BEGIN:VCALENDAR
VERSION:2.0
PRODID:-//Plone.org//NONSGML plone.app.event//EN
X-WR-TIMEZONE:Europe/Madrid
BEGIN:VEVENT
SUMMARY:No hi ha mercat
DTSTART;TZID=Europe/Madrid;VALUE=DATE-TIME:20210911T000000
DTEND;TZID=Europe/Madrid;VALUE=DATE-TIME:20210911T010000
DTSTAMP;VALUE=DATE-TIME:20260420T014237Z
UID:7e2318a7752fbb065bbf4c916c1d9013
CREATED;VALUE=DATE-TIME:20210911T000000Z
LOCATION:Zona comercial del centre de Sant Sadurní
DESCRIPTION:Dissabte 11 de setembre no hi ha mercat setmanal
URL:https://www.santsadurni.cat/document.php?id=16468
END:VEVENT
END:VCALENDAR