BEGIN:VCALENDAR
VERSION:2.0
PRODID:-//Plone.org//NONSGML plone.app.event//EN
X-WR-TIMEZONE:Europe/Madrid
BEGIN:VEVENT
SUMMARY:Aparadors al Cava i Joc de cerca dels taps amagats
DTSTART;TZID=Europe/Madrid;VALUE=DATE-TIME:20211001T000000
DTEND;TZID=Europe/Madrid;VALUE=DATE-TIME:20211001T010000
DTSTAMP;VALUE=DATE-TIME:20260421T032259Z
UID:c63f38050176dee0e198261f6b23e6c7
CREATED;VALUE=DATE-TIME:20211001T000000Z
CATEGORIES:Vins i caves,Comerç
LOCATION:Altre (ho explico més avall)
ORGANIZER:Som Sant Sadurní i Confraria del Cava
URL:https://www.santsadurni.cat/document.php?id=16514
END:VEVENT
END:VCALENDAR