BEGIN:VCALENDAR
VERSION:2.0
PRODID:-//Plone.org//NONSGML plone.app.event//EN
X-WR-TIMEZONE:Europe/Madrid
BEGIN:VEVENT
SUMMARY:Bàsquet Sant Sadurní
DTSTART;TZID=Europe/Madrid;VALUE=DATE-TIME:20211002T174500
DTEND;TZID=Europe/Madrid;VALUE=DATE-TIME:20211002T184500
DTSTAMP;VALUE=DATE-TIME:20260421T015314Z
UID:def4c153bcd7335e7d256bc5a40024a4
CREATED;VALUE=DATE-TIME:20211002T000000Z
CATEGORIES:Esports
LOCATION:Zona Esportiva - Ps. Can Ferrer, 2
ORGANIZER:ASSOCIACIÓ ESPORTIVA NOU BÀSQUET SANT SADURNÍ 2020
DESCRIPTION:PARTIT SÈNIOR MASCULÍ
URL:https://www.santsadurni.cat/document.php?id=16553
END:VEVENT
END:VCALENDAR