BEGIN:VCALENDAR
VERSION:2.0
PRODID:-//Plone.org//NONSGML plone.app.event//EN
X-WR-TIMEZONE:Europe/Madrid
BEGIN:VEVENT
SUMMARY:Marxa lila per erradicar la violència masclista
DTSTART;TZID=Europe/Madrid;VALUE=DATE-TIME:20211125T183000
DTEND;TZID=Europe/Madrid;VALUE=DATE-TIME:20211125T193000
DTSTAMP;VALUE=DATE-TIME:20260421T223722Z
UID:23a6d45f27cd1ff8508cebfd5f5df0c6
CREATED;VALUE=DATE-TIME:20211125T000000Z
LOCATION:Plaça Santiago Rusiñol
ORGANIZER:Ajuntament de Sant Sadurní d'Anoia
URL:https://www.santsadurni.cat/document.php?id=16626
END:VEVENT
END:VCALENDAR