BEGIN:VCALENDAR
VERSION:2.0
PRODID:-//Plone.org//NONSGML plone.app.event//EN
X-WR-TIMEZONE:Europe/Madrid
BEGIN:VEVENT
SUMMARY:Presentació: Mapa de Violències Masclistes al municipi
DTSTART;TZID=Europe/Madrid;VALUE=DATE-TIME:20211125T200000
DTEND;TZID=Europe/Madrid;VALUE=DATE-TIME:20211125T210000
DTSTAMP;VALUE=DATE-TIME:20260422T045016Z
UID:cabc6539a5f24acd6f416e18c62b82c3
CREATED;VALUE=DATE-TIME:20211125T000000Z
LOCATION:Ajuntament de Sant Sadurní - Pl. Ajuntament 1
ORGANIZER:Comissió 25N (Casal Popular El Carràs)
URL:https://www.santsadurni.cat/document.php?id=16731
END:VEVENT
END:VCALENDAR