BEGIN:VCALENDAR
VERSION:2.0
PRODID:-//Plone.org//NONSGML plone.app.event//EN
X-WR-TIMEZONE:Europe/Madrid
BEGIN:VEVENT
SUMMARY:Maridatge Cal Blay 25 amb Juvé & Camps
DTSTART;TZID=Europe/Madrid;VALUE=DATE-TIME:20211126T210000
DTEND;TZID=Europe/Madrid;VALUE=DATE-TIME:20211126T220000
DTSTAMP;VALUE=DATE-TIME:20260422T063021Z
UID:ddeb9ba09e8f4f87bb156835bd2852c9
CREATED;VALUE=DATE-TIME:20211126T000000Z
CATEGORIES:Vins i caves,Gastronomia
LOCATION:Restaurant Cal Blay 25
ORGANIZER:CAL BLAY
COMMENT:Preu: 47&euro;
URL:https://www.santsadurni.cat/document.php?id=16772
END:VEVENT
END:VCALENDAR