BEGIN:VCALENDAR
VERSION:2.0
PRODID:-//Plone.org//NONSGML plone.app.event//EN
X-WR-TIMEZONE:Europe/Madrid
BEGIN:VEVENT
SUMMARY:Fassina't 2022. Serà el nostre secret
DTSTART;TZID=Europe/Madrid;VALUE=DATE-TIME:20220121T200000
DTEND;TZID=Europe/Madrid;VALUE=DATE-TIME:20220121T210000
DTSTAMP;VALUE=DATE-TIME:20260422T044936Z
UID:90ebc576e4d101b44958a2a7b124c7af
CREATED;VALUE=DATE-TIME:20220121T000000Z
CATEGORIES:Teatre
LOCATION:Celler de la Fassina de Can Guineu (c/ Sant Pere)
ORGANIZER:Regidoria de Cultura
COMMENT:Preu: 3&euro;
URL:https://www.santsadurni.cat/document.php?id=16832
END:VEVENT
END:VCALENDAR