BEGIN:VCALENDAR
VERSION:2.0
PRODID:-//Plone.org//NONSGML plone.app.event//EN
X-WR-TIMEZONE:Europe/Madrid
BEGIN:VEVENT
SUMMARY:Emissió del programa "Gent de Mercats"
DTSTART;TZID=Europe/Madrid;VALUE=DATE-TIME:20211222T231500
DTEND;TZID=Europe/Madrid;VALUE=DATE-TIME:20211223T001500
DTSTAMP;VALUE=DATE-TIME:20260421T141632Z
UID:6f0eb42c1e90ddb7cd9eec54287a5daf
CREATED;VALUE=DATE-TIME:20211222T000000Z
CATEGORIES:Comerç
LOCATION:Emissió per Televisió - TV3
DESCRIPTION:El mercat de Sant Sadurní serà protagonista de l´estrena de la nova temporada del programa de televisió «Gent de Mercats»
URL:https://www.santsadurni.cat/document.php?id=16852
END:VEVENT
END:VCALENDAR