BEGIN:VCALENDAR
VERSION:2.0
PRODID:-//Plone.org//NONSGML plone.app.event//EN
X-WR-TIMEZONE:Europe/Madrid
BEGIN:VEVENT
SUMMARY:CICLE GOST: IMPROSHOW
DTSTART;TZID=Europe/Madrid;VALUE=DATE-TIME:20220603T200000
DTEND;TZID=Europe/Madrid;VALUE=DATE-TIME:20220603T210000
DTSTAMP;VALUE=DATE-TIME:20260421T160040Z
UID:993807f4f1553f49171f367b6519915a
CREATED;VALUE=DATE-TIME:20220603T000000Z
CATEGORIES:Teatre,Familiar
LOCATION:Centre Cultural de la Plaça Nova
ORGANIZER:Regidoria de Cultura
COMMENT:Preu: 1&euro;
URL:https://www.santsadurni.cat/document.php?id=17185
END:VEVENT
END:VCALENDAR