BEGIN:VCALENDAR
VERSION:2.0
PRODID:-//Plone.org//NONSGML plone.app.event//EN
X-WR-TIMEZONE:Europe/Madrid
BEGIN:VEVENT
SUMMARY:Bàsquet CT Sénior A Masculí. 2a fase. Jornada 4
DTSTART;TZID=Europe/Madrid;VALUE=DATE-TIME:20220515T174500
DTEND;TZID=Europe/Madrid;VALUE=DATE-TIME:20220515T184500
DTSTAMP;VALUE=DATE-TIME:20260422T061731Z
UID:e3e74a18a9c260aefd1b3adf184d8fb2
CREATED;VALUE=DATE-TIME:20220515T000000Z
CATEGORIES:Esports
LOCATION:Zona Esportiva - Ps. Can Ferrer, 2
URL:https://www.santsadurni.cat/document.php?id=17513
END:VEVENT
END:VCALENDAR