BEGIN:VCALENDAR
VERSION:2.0
PRODID:-//Plone.org//NONSGML plone.app.event//EN
X-WR-TIMEZONE:Europe/Madrid
BEGIN:VEVENT
SUMMARY:Vespre de Sant Jordi a Llopart
DTSTART;TZID=Europe/Madrid;VALUE=DATE-TIME:20220422T203000
DTEND;TZID=Europe/Madrid;VALUE=DATE-TIME:20220422T213000
DTSTAMP;VALUE=DATE-TIME:20260426T034111Z
UID:63bbb4610dc5f781d01edf0fd569c91b
CREATED;VALUE=DATE-TIME:20220422T000000Z
CATEGORIES:Literatura,Música,Vins i caves
LOCATION:Caves Llopart
URL:https://www.santsadurni.cat/document.php?id=17524
END:VEVENT
END:VCALENDAR