BEGIN:VCALENDAR
VERSION:2.0
PRODID:-//Plone.org//NONSGML plone.app.event//EN
X-WR-TIMEZONE:Europe/Madrid
BEGIN:VEVENT
SUMMARY:Audicions
DTSTART;TZID=Europe/Madrid;VALUE=DATE-TIME:20221220T000000
DTEND;TZID=Europe/Madrid;VALUE=DATE-TIME:20221220T010000
DTSTAMP;VALUE=DATE-TIME:20260421T200112Z
UID:2e3118f67cb5cde1202d4c4651e11d79
CREATED;VALUE=DATE-TIME:20221214T000000Z
CATEGORIES:Música,Familiar,Formació
LOCATION:Escola Municipal de Música - Plaça Dr. Salvans, 1
DESCRIPTION:Desembre 2022
URL:https://www.santsadurni.cat/document.php?id=18010
END:VEVENT
END:VCALENDAR