BEGIN:VCALENDAR
VERSION:2.0
PRODID:-//Plone.org//NONSGML plone.app.event//EN
X-WR-TIMEZONE:Europe/Madrid
BEGIN:VEVENT
SUMMARY:No hi ha mercat setmanal. Fires i Festes
DTSTART;TZID=Europe/Madrid;VALUE=DATE-TIME:20220908T000000
DTEND;TZID=Europe/Madrid;VALUE=DATE-TIME:20220908T010000
DTSTAMP;VALUE=DATE-TIME:20260426T024804Z
UID:c86f9ff3b5154034e97e297f13db2cd0
CREATED;VALUE=DATE-TIME:20220908T000000Z
URL:https://www.santsadurni.cat/document.php?id=18013
END:VEVENT
END:VCALENDAR