BEGIN:VCALENDAR
VERSION:2.0
PRODID:-//Plone.org//NONSGML plone.app.event//EN
X-WR-TIMEZONE:Europe/Madrid
BEGIN:VEVENT
SUMMARY:Hi ha mercat setmanal, amb reubicació de parades per la cercavila
DTSTART;TZID=Europe/Madrid;VALUE=DATE-TIME:20220910T000000
DTEND;TZID=Europe/Madrid;VALUE=DATE-TIME:20220910T010000
DTSTAMP;VALUE=DATE-TIME:20260426T024919Z
UID:b51474811e1b928a173ec30e9a6a700e
CREATED;VALUE=DATE-TIME:20220910T000000Z
URL:https://www.santsadurni.cat/document.php?id=18014
END:VEVENT
END:VCALENDAR