BEGIN:VCALENDAR
VERSION:2.0
PRODID:-//Plone.org//NONSGML plone.app.event//EN
X-WR-TIMEZONE:Europe/Madrid
BEGIN:VEVENT
SUMMARY:III Nit dels màgnums, grans caves i gastronomia
DTSTART;TZID=Europe/Madrid;VALUE=DATE-TIME:20220930T200000
DTEND;TZID=Europe/Madrid;VALUE=DATE-TIME:20220930T210000
DTSTAMP;VALUE=DATE-TIME:20260426T024747Z
UID:ced588d430f238b97d3d92bb15a30532
CREATED;VALUE=DATE-TIME:20220930T000000Z
CATEGORIES:Vins i caves,Gastronomia
LOCATION:Celler Juvé & Camps - Finca d'Espiells, Ctra. BV-2247 a Espiells, Sant Sadurní d'Anoia
ORGANIZER:Confraria del Cava Sant Sadurní amb el suport de l'Ajuntament de Sant Sadurní d'Anoia
COMMENT:Preu: 36,00 &euro;. Inclou tast de caves i gastronomia.
Obsequi d&rsquo;una copa commemorativa.

Entrades a la venda a confrariacava.com
DESCRIPTION:Descobreix els secrets dels caves més exclusius i les característiques del format màgnum de la mà dels experts elaboradors
URL:https://www.santsadurni.cat/document.php?id=18044
END:VEVENT
END:VCALENDAR