BEGIN:VCALENDAR
VERSION:2.0
PRODID:-//Plone.org//NONSGML plone.app.event//EN
X-WR-TIMEZONE:Europe/Madrid
BEGIN:VEVENT
SUMMARY:Visita amb maridatge a caves Blancher
DTSTART;TZID=Europe/Madrid;VALUE=DATE-TIME:20221008T000000
DTEND;TZID=Europe/Madrid;VALUE=DATE-TIME:20221008T010000
DTSTAMP;VALUE=DATE-TIME:20260425T212715Z
UID:3474de8152af0269b268c6f71e1bad1e
CREATED;VALUE=DATE-TIME:20221008T000000Z
CATEGORIES:Vins i caves,Gastronomia
LOCATION:Caves Blancher - Pl. Pont Romà, 15, Sant Sadurní d´Anoia
ORGANIZER:Caves Blancher
COMMENT:Preu: 15,00 &euro; 
Reserva prèvia al 938 183 286 o a blancher@blancher.es
Durada: Visites a les 10.30h i 12.30h
DESCRIPTION:Activitat del Cavatast a les caves
URL:https://www.santsadurni.cat/document.php?id=18092
END:VEVENT
END:VCALENDAR