BEGIN:VCALENDAR
VERSION:2.0
PRODID:-//Plone.org//NONSGML plone.app.event//EN
X-WR-TIMEZONE:Europe/Madrid
BEGIN:VEVENT
SUMMARY:Tast del Cavatast a la Taverna del Vinseum
DTSTART;TZID=Europe/Madrid;VALUE=DATE-TIME:20221005T200000
DTEND;TZID=Europe/Madrid;VALUE=DATE-TIME:20221005T210000
DTSTAMP;VALUE=DATE-TIME:20260421T134748Z
UID:b2ffbb868635282cd230e691a38e272b
CREATED;VALUE=DATE-TIME:20221005T000000Z
CATEGORIES:Vins i caves
LOCATION:La Taverna del Vinseum - Pl. de Jaume I, 1, 08720 Vilafranca del Penedès
ORGANIZER:VINSEUM Museu de les Cultures del Vi de Catalunya
COMMENT:Preu: 20,00 &euro;
Entrades a la venda a entrades.vinseum.cat
URL:https://www.santsadurni.cat/document.php?id=18095
END:VEVENT
END:VCALENDAR