BEGIN:VCALENDAR
VERSION:2.0
PRODID:-//Plone.org//NONSGML plone.app.event//EN
X-WR-TIMEZONE:Europe/Madrid
BEGIN:VEVENT
SUMMARY:Viu l'experiència Cava Centre
DTSTART;TZID=Europe/Madrid;VALUE=DATE-TIME:20221008T000000
DTEND;TZID=Europe/Madrid;VALUE=DATE-TIME:20221008T010000
DTSTAMP;VALUE=DATE-TIME:20260425T201316Z
UID:dc3479091d479c52ba93cf32bb4f71ca
CREATED;VALUE=DATE-TIME:20221008T000000Z
CATEGORIES:Exposició,Vins i caves
LOCATION:Cava Centre - Cr. Hospital 23 (entrada al Centre i a l'Oficina de Turisme)
ORGANIZER:Ajuntament de Sant Sadurní d'Anoia
COMMENT:Preu: 6,00 &euro;. Inclou degustació de cava.
Venda d'entrades a cavatast.cat a partir del 23 de setembre.
Durada: Visites a les 12.00h, 13.00h, 16.00h, 18.00h, 19.00h
DESCRIPTION:Viuràs, sentiràs i experimentaràs el món del cava amb els cinc sentits
URL:https://www.santsadurni.cat/document.php?id=18096
END:VEVENT
END:VCALENDAR