BEGIN:VCALENDAR
VERSION:2.0
PRODID:-//Plone.org//NONSGML plone.app.event//EN
X-WR-TIMEZONE:Europe/Madrid
BEGIN:VEVENT
SUMMARY:Cicle Talents Locals: Mireia Gallardo i Mònica Pinyol "[L'Art] de crear per transformar"
DTSTART;TZID=Europe/Madrid;VALUE=DATE-TIME:20221214T190000
DTEND;TZID=Europe/Madrid;VALUE=DATE-TIME:20221214T200000
DTSTAMP;VALUE=DATE-TIME:20260421T224948Z
UID:9082c3ef4082b366572d85faa7fd9767
CREATED;VALUE=DATE-TIME:20221214T000000Z
CATEGORIES:Conferència
LOCATION:Biblioteca Ramon Bosch de Noya - Plaça 1er Homenatge a la Vellesa, 10
ORGANIZER:Biblioteca Municipal amb la col·laboració de Cava Varias
URL:https://www.santsadurni.cat/document.php?id=18332
END:VEVENT
END:VCALENDAR