BEGIN:VCALENDAR
VERSION:2.0
PRODID:-//Plone.org//NONSGML plone.app.event//EN
X-WR-TIMEZONE:Europe/Madrid
BEGIN:VEVENT
SUMMARY:Introducció a l'arqueologia
DTSTART;TZID=Europe/Madrid;VALUE=DATE-TIME:20221217T000000
DTEND;TZID=Europe/Madrid;VALUE=DATE-TIME:20221217T010000
DTSTAMP;VALUE=DATE-TIME:20260421T212502Z
UID:8e58c9040af0ca08eeb8d022d704138b
CREATED;VALUE=DATE-TIME:20221212T000000Z
CATEGORIES:Conferència,Formació
LOCATION:carrer sant antoni, 45
ORGANIZER:SECCIO CULTURA CC ONG AJUDA AL DESENVOLUPAMENT
COMMENT:Preu: gratuit
Durada: 1 HORA I MITJA
URL:https://www.santsadurni.cat/document.php?id=18356
END:VEVENT
END:VCALENDAR