BEGIN:VCALENDAR
VERSION:2.0
PRODID:-//Plone.org//NONSGML plone.app.event//EN
X-WR-TIMEZONE:Europe/Madrid
BEGIN:VEVENT
SUMMARY:BiblioLab nadalenc "Fem un xaiet de llana" descobrim el procés de transformació de la llana a càrrec de Barrina { el món de la llana }
DTSTART;TZID=Europe/Madrid;VALUE=DATE-TIME:20221215T173000
DTEND;TZID=Europe/Madrid;VALUE=DATE-TIME:20221215T183000
DTSTAMP;VALUE=DATE-TIME:20260421T225005Z
UID:75dcb07c365d1cb717df0b7b0012f2d5
CREATED;VALUE=DATE-TIME:20221215T000000Z
CATEGORIES:Infantils,Familiar
LOCATION:Biblioteca Ramon Bosch de Noya - Plaça 1er Homenatge a la Vellesa, 10
ORGANIZER:Biblioteca Municipal Ramon Bosch de Noya
COMMENT:Preu: Gratuït, amb inscripció prèvia
Durada: 60 minuts aproximadament
DESCRIPTION:Per a públic familiar amb infants a partir d' I4, amb inscripció prèvia a partir de l'1 de desembre al web: https://santsadurni.cat/activitatsinfantils
URL:https://www.santsadurni.cat/document.php?id=18377
END:VEVENT
END:VCALENDAR