BEGIN:VCALENDAR
VERSION:2.0
PRODID:-//Plone.org//NONSGML plone.app.event//EN
X-WR-TIMEZONE:Europe/Madrid
BEGIN:VEVENT
SUMMARY:Inscripcions reis Casa per Casa (Exhaurides)
DTSTART;TZID=Europe/Madrid;VALUE=DATE-TIME:20221212T100000
DTEND;TZID=Europe/Madrid;VALUE=DATE-TIME:20221212T110000
DTSTAMP;VALUE=DATE-TIME:20260421T144938Z
UID:2dc072ffab2a89a59d893d7eb27d02bb
CREATED;VALUE=DATE-TIME:20221212T000000Z
CATEGORIES:Festa,Familiar
ORGANIZER:Regidoria de Cultura
COMMENT:Preu: 10 &euro;
URL:https://www.santsadurni.cat/document.php?id=18386
END:VEVENT
END:VCALENDAR