BEGIN:VCALENDAR
VERSION:2.0
PRODID:-//Plone.org//NONSGML plone.app.event//EN
X-WR-TIMEZONE:Europe/Madrid
BEGIN:VEVENT
SUMMARY:Taller de cuina equatoriana sostenible
DTSTART;TZID=Europe/Madrid;VALUE=DATE-TIME:20221213T153000
DTEND;TZID=Europe/Madrid;VALUE=DATE-TIME:20221213T163000
DTSTAMP;VALUE=DATE-TIME:20260421T200310Z
UID:724d6b6522c09ce2fac60e1310112b21
CREATED;VALUE=DATE-TIME:20221213T000000Z
CATEGORIES:Cursos,Gastronomia,Formació
LOCATION:Centre Vilarnau
URL:https://www.santsadurni.cat/document.php?id=18406
END:VEVENT
END:VCALENDAR