BEGIN:VCALENDAR
VERSION:2.0
PRODID:-//Plone.org//NONSGML plone.app.event//EN
X-WR-TIMEZONE:Europe/Madrid
BEGIN:VEVENT
SUMMARY:Vine a donar sang a #santsadurni!
DTSTART;TZID=Europe/Madrid;VALUE=DATE-TIME:20221209T100000
DTEND;TZID=Europe/Madrid;VALUE=DATE-TIME:20221209T110000
DTSTAMP;VALUE=DATE-TIME:20260422T002654Z
UID:a1777a70beeed1e629c73a85fa057ab9
CREATED;VALUE=DATE-TIME:20221209T000000Z
LOCATION:Casal d'Entitats - Cr. Marc Mir, 15
COMMENT:Durada: De 10h a 14h i de 17h a 21h
URL:https://www.santsadurni.cat/document.php?id=18433
END:VEVENT
END:VCALENDAR