BEGIN:VCALENDAR
VERSION:2.0
PRODID:-//Plone.org//NONSGML plone.app.event//EN
X-WR-TIMEZONE:Europe/Madrid
BEGIN:VEVENT
SUMMARY:Fassina't 2023. QUAN PASSI TOT AIXÒ
DTSTART;TZID=Europe/Madrid;VALUE=DATE-TIME:20230224T200000
DTEND;TZID=Europe/Madrid;VALUE=DATE-TIME:20230224T210000
DTSTAMP;VALUE=DATE-TIME:20260422T075902Z
UID:27d5d37abbe542d426e0eafe9384cf30
CREATED;VALUE=DATE-TIME:20230224T000000Z
CATEGORIES:Teatre
LOCATION:c/ Sant Pere, 40
ORGANIZER:Regidoria de Cultura
COMMENT:Preu: 3&euro;
Durada: 1 hora i 20 minuts
DESCRIPTION:Una comèdia musical
URL:https://www.santsadurni.cat/document.php?id=18475
END:VEVENT
END:VCALENDAR