BEGIN:VCALENDAR
VERSION:2.0
PRODID:-//Plone.org//NONSGML plone.app.event//EN
X-WR-TIMEZONE:Europe/Madrid
BEGIN:VEVENT
SUMMARY:Vine a donar sang a #santsadurni!
DTSTART;TZID=Europe/Madrid;VALUE=DATE-TIME:20230129T100000
DTEND;TZID=Europe/Madrid;VALUE=DATE-TIME:20230129T110000
DTSTAMP;VALUE=DATE-TIME:20260426T062348Z
UID:c951d76a50ebef95be870965378e615e
CREATED;VALUE=DATE-TIME:20230129T000000Z
LOCATION:Centre Vilarnau - Pl. Germans Segura Viudas s/n
COMMENT:Durada: De 10 a 14h
DESCRIPTION:#ViuifesViure De 10 a 14h al Centre Vilarnau
URL:https://www.santsadurni.cat/document.php?id=18587
END:VEVENT
END:VCALENDAR