BEGIN:VCALENDAR
VERSION:2.0
PRODID:-//Plone.org//NONSGML plone.app.event//EN
X-WR-TIMEZONE:Europe/Madrid
BEGIN:VEVENT
SUMMARY:L'Istiu 23 - Mushkaa - ANUL.LAT PER PLUJA
DTSTART;TZID=Europe/Madrid;VALUE=DATE-TIME:20230706T223000
DTEND;TZID=Europe/Madrid;VALUE=DATE-TIME:20230706T233000
DTSTAMP;VALUE=DATE-TIME:20260424T222126Z
UID:84516241d61bc4d3d932db772f021658
CREATED;VALUE=DATE-TIME:20230706T000000Z
CATEGORIES:Música
LOCATION:Índex. Servei de Joventut - Cr. Pompeu Fabra, 34
ORGANIZER:Regidoria de Joventut
COMMENT:Preu: Entrada gratuïta
DESCRIPTION:Amb tan sols divuit anys, MUSHKAA (Irma Farelo) ha aconseguit afirmar-se com una de les veus emergents de la nova música urbana. Una generació amb clars referents en els clàssics del reaggeton, el dancehall, el trap o el R&B, però amb prou llibertat per a cercar nous sons i noves tendències.
URL:https://www.santsadurni.cat/document.php?id=18904
END:VEVENT
END:VCALENDAR