BEGIN:VCALENDAR
VERSION:2.0
PRODID:-//Plone.org//NONSGML plone.app.event//EN
X-WR-TIMEZONE:Europe/Madrid
BEGIN:VEVENT
SUMMARY:Inici de la campanya comercial: SOC SOSTENIBLE
DTSTART;TZID=Europe/Madrid;VALUE=DATE-TIME:20230502T090000
DTEND;TZID=Europe/Madrid;VALUE=DATE-TIME:20230502T100000
DTSTAMP;VALUE=DATE-TIME:20260421T215946Z
UID:1bf58c04f0c1d49d9ea4b764cda052e7
CREATED;VALUE=DATE-TIME:20230502T000000Z
CATEGORIES:Infantils,Música,Familiar,Gastronomia,Comerç
LOCATION:Mercat setmanal de dijous i dissabte i establiments adherits a SOM Sant Sadurní
ORGANIZER:Regidoria de Comerç de l'Ajuntament i SOM Sant Sadurní
COMMENT:Preu: Gratuït
Durada: Fins al 13 de Maig
DESCRIPTION:Compra amb valors a Sant Sadurní d'Anoia
URL:https://www.santsadurni.cat/document.php?id=18971
END:VEVENT
END:VCALENDAR