BEGIN:VCALENDAR
VERSION:2.0
PRODID:-//Plone.org//NONSGML plone.app.event//EN
X-WR-TIMEZONE:Europe/Madrid
BEGIN:VEVENT
SUMMARY:Botigues i música al carrer
DTSTART;TZID=Europe/Madrid;VALUE=DATE-TIME:20230506T000000
DTEND;TZID=Europe/Madrid;VALUE=DATE-TIME:20230506T010000
DTSTAMP;VALUE=DATE-TIME:20260421T232350Z
UID:fbcddb5c40045c353284874c961ae5c2
CREATED;VALUE=DATE-TIME:20230506T000000Z
CATEGORIES:Infantils,Música,Familiar,Comerç
LOCATION:Mercat setmanal de dissabte i establiments adherits a SOM Sant Sadurní
ORGANIZER:Regidoria de Comerç de l'Ajuntament i SOM Sant Sadurní
COMMENT:Preu: Gratuït
Durada: Matí
DESCRIPTION:Campanya de dinamització comercial: "Soc sostenible. Compra amb valors a Sant Sadurní d'Anoia"
URL:https://www.santsadurni.cat/document.php?id=18973
END:VEVENT
END:VCALENDAR