BEGIN:VCALENDAR
VERSION:2.0
PRODID:-//Plone.org//NONSGML plone.app.event//EN
X-WR-TIMEZONE:Europe/Madrid
BEGIN:VEVENT
SUMMARY:Taller "Fes el regal del dia de la mare"
DTSTART;TZID=Europe/Madrid;VALUE=DATE-TIME:20230506T110000
DTEND;TZID=Europe/Madrid;VALUE=DATE-TIME:20230506T120000
DTSTAMP;VALUE=DATE-TIME:20260421T232404Z
UID:5faf26c4e854eccfeeddd25d654cc2d2
CREATED;VALUE=DATE-TIME:20230506T000000Z
CATEGORIES:Infantils,Música,Familiar,Comerç
LOCATION:Pl. Ajuntament - Mercat setmanal de dissabte
ORGANIZER:Regidoria de Comerç de l'Ajuntament i SOM Sant Sadurní
COMMENT:Preu: Gratuït
Durada: Fins a les 13:30h aprox
DESCRIPTION:Campanya de dinamització comercial: "Soc sostenible. Compra amb valors a Sant Sadurní d'Anoia"
URL:https://www.santsadurni.cat/document.php?id=18974
END:VEVENT
END:VCALENDAR