BEGIN:VCALENDAR
VERSION:2.0
PRODID:-//Plone.org//NONSGML plone.app.event//EN
X-WR-TIMEZONE:Europe/Madrid
BEGIN:VEVENT
SUMMARY:Berenar, tast & taller de ratpenats a les vinyes, amb els amics del Museu de Ciències Naturals de Granollers
DTSTART;TZID=Europe/Madrid;VALUE=DATE-TIME:20230506T180000
DTEND;TZID=Europe/Madrid;VALUE=DATE-TIME:20230506T190000
DTSTAMP;VALUE=DATE-TIME:20260421T201118Z
UID:2aab6d402b3ebf42ef22095bc5f274d1
CREATED;VALUE=DATE-TIME:20230506T000000Z
LOCATION:Finca Serral del Vell
ORGANIZER:Celler Credo (Recaredo)
COMMENT:Preu: 30 euros, 15&euro; els menors
URL:https://www.santsadurni.cat/document.php?id=19067
END:VEVENT
END:VCALENDAR