BEGIN:VCALENDAR
VERSION:2.0
PRODID:-//Plone.org//NONSGML plone.app.event//EN
X-WR-TIMEZONE:Europe/Madrid
BEGIN:VEVENT
SUMMARY:1r Torneig 3x3 Bàsquet Sant Sadurní
DTSTART;TZID=Europe/Madrid;VALUE=DATE-TIME:20230610T090000
DTEND;TZID=Europe/Madrid;VALUE=DATE-TIME:20230610T100000
DTSTAMP;VALUE=DATE-TIME:20260424T133124Z
UID:269e41c19ae212df86d49cab6501a6f1
CREATED;VALUE=DATE-TIME:20230610T000000Z
CATEGORIES:Esports
LOCATION:Zona Esportiva - Ps. Can Ferrer, 2
ORGANIZER:ASSOCIACIÓ ESPORTIVA NOU BÀSQUET SANT SADURNÍ 2020
COMMENT:Preu: 40&euro; per equip
Durada: 9 a 21h (horaris a definir en funció dels equips inscrits i les rondes que superi cada equip)
URL:https://www.santsadurni.cat/document.php?id=19166
END:VEVENT
END:VCALENDAR