BEGIN:VCALENDAR
VERSION:2.0
PRODID:-//Plone.org//NONSGML plone.app.event//EN
X-WR-TIMEZONE:Europe/Madrid
BEGIN:VEVENT
SUMMARY:El Secret de Sant Sadurní
DTSTART;TZID=Europe/Madrid;VALUE=DATE-TIME:20230601T000000
DTEND;TZID=Europe/Madrid;VALUE=DATE-TIME:20230601T010000
DTSTAMP;VALUE=DATE-TIME:20260421T213236Z
UID:cdb58579d48d80d9a423f20c708e77b9
CREATED;VALUE=DATE-TIME:20230601T000000Z
CATEGORIES:Infantils,Familiar
LOCATION:Punt d'inici de l'activitat - Cr. Hospital 23 (entrada al Centre i a l'Oficina de Turisme)
ORGANIZER:Ajuntament de Sant Sadurní d'Anoia
COMMENT:Preu: Gratuït
Durada: 1 hora
DESCRIPTION:Nova gimcana turística que recorre la capital del cava
URL:https://www.santsadurni.cat/document.php?id=19170
END:VEVENT
END:VCALENDAR